{
 "currentVersion": 11.4,
 "cimVersion": "3.4.0",
 "serviceDescription": "Conspect des Donau-Stroms von seinem Ursprung zu Donaueschingen in Schwaben bis in das Schwarze Meer\naus \nRiedl, Adrian von / Green, Thomas / Schleich, Johann Carl: Strom-Atlas von Baiern\n1806 - 1808",
 "mapName": "Layer",
 "description": "",
 "copyrightText": "",
 "supportsDynamicLayers": true,
 "layers": [
  {
   "id": 0,
   "name": "Conspect des Donau-Stroms",
   "parentLayerId": -1,
   "defaultVisibility": true,
   "subLayerIds": null,
   "minScale": 0,
   "maxScale": 0,
   "type": "Raster Layer",
   "supportsDynamicLegends": true
  }
 ],
 "tables": [],
 "spatialReference": {
  "wkid": 31464,
  "latestWkid": 31468,
  "xyTolerance": 0.001,
  "zTolerance": 0.001,
  "mTolerance": 0.001,
  "falseX": -1122500,
  "falseY": -10001000,
  "xyUnits": 4.503149312439251E8,
  "falseZ": -100000,
  "zUnits": 10000,
  "falseM": -100000,
  "mUnits": 10000
 },
 "singleFusedMapCache": true,
 "tileInfo": {
  "rows": 256,
  "cols": 256,
  "dpi": 96,
  "format": "PNG",
  "compressionQuality": 0,
  "origin": {
   "x": -1122500,
   "y": 10001000
  },
  "spatialReference": {
   "wkid": 31464,
   "latestWkid": 31468,
   "xyTolerance": 0.001,
   "zTolerance": 0.001,
   "mTolerance": 0.001,
   "falseX": -1122500,
   "falseY": -10001000,
   "xyUnits": 4.503149312439251E8,
   "falseZ": -100000,
   "zUnits": 10000,
   "falseM": -100000,
   "mUnits": 10000
  },
  "lods": [
   {
    "level": 0,
    "resolution": 6773.346880027094,
    "scale": 25600000
   },
   {
    "level": 1,
    "resolution": 3386.673440013547,
    "scale": 12800000
   },
   {
    "level": 2,
    "resolution": 1693.3367200067735,
    "scale": 6400000
   },
   {
    "level": 3,
    "resolution": 846.6683600033867,
    "scale": 3200000
   },
   {
    "level": 4,
    "resolution": 423.33418000169337,
    "scale": 1600000
   },
   {
    "level": 5,
    "resolution": 211.66709000084668,
    "scale": 800000
   },
   {
    "level": 6,
    "resolution": 105.83354500042334,
    "scale": 400000
   },
   {
    "level": 7,
    "resolution": 52.91677250021167,
    "scale": 200000
   }
  ]
 },
 "storageInfo": {
  "storageFormat": "esriMapCacheStorageModeCompact",
  "packetSize": 128
 },
 "initialExtent": {
  "xmin": 2608090.8141931817,
  "ymin": 5001657.38087334,
  "xmax": 7229554.601097655,
  "ymax": 6572019.864956395,
  "spatialReference": {
   "wkid": 31464,
   "latestWkid": 31468,
   "xyTolerance": 0.001,
   "zTolerance": 0.001,
   "mTolerance": 0.001,
   "falseX": -1122500,
   "falseY": -10001000,
   "xyUnits": 4.503149312439251E8,
   "falseZ": -100000,
   "zUnits": 10000,
   "falseM": -100000,
   "mUnits": 10000
  }
 },
 "fullExtent": {
  "xmin": 3129906.605959471,
  "ymin": 4618351.019588485,
  "xmax": 6707739.00103447,
  "ymax": 5770705.661630485,
  "spatialReference": {
   "wkid": 31464,
   "latestWkid": 31468,
   "xyTolerance": 0.001,
   "zTolerance": 0.001,
   "mTolerance": 0.001,
   "falseX": -1122500,
   "falseY": -10001000,
   "xyUnits": 4.503149312439251E8,
   "falseZ": -100000,
   "zUnits": 10000,
   "falseM": -100000,
   "mUnits": 10000
  }
 },
 "datesInUnknownTimezone": false,
 "minScale": 1.8489297737236E7,
 "maxScale": 4513.988705,
 "units": "esriMeters",
 "supportedImageFormatTypes": "PNG32,PNG24,PNG,JPG,DIB,TIFF,EMF,PS,PDF,GIF,SVG,SVGZ,BMP",
 "documentInfo": {
  "Title": "",
  "Author": "",
  "Comments": "Conspect des Donau-Stroms von seinem Ursprung zu Donaueschingen in Schwaben bis in das Schwarze Meer\naus \nRiedl, Adrian von / Green, Thomas / Schleich, Johann Carl: Strom-Atlas von Baiern\n1806 - 1808",
  "Subject": "Conspect des Donau-Stroms von seinem Ursprung zu Donaueschingen in Schwaben bis in das Schwarze Meer\naus \nRiedl, Adrian von / Green, Thomas / Schleich, Johann Carl: Strom-Atlas von Baiern\n1806 - 1808",
  "Category": "",
  "Version": "10.1",
  "AntialiasingMode": "None",
  "TextAntialiasingMode": "Force",
  "Keywords": "Historische Karte Donau Gesamtverlauf Stromatlas Baiern Bayern Riedl 1806 1808"
 },
 "supportsQueryDomains": true,
 "capabilities": "Map,Query,Data",
 "supportedQueryFormats": "JSON, geoJSON, PBF",
 "exportTilesAllowed": false,
 "referenceScale": 0.0,
 "datumTransformations": [
  {
   "geoTransforms": [
    {
     "wkid": 108001,
     "latestWkid": 1241,
     "transformForward": true,
     "name": "NAD_1927_To_NAD_1983_NADCON"
    }
   ]
  },
  {
   "geoTransforms": [
    {
     "wkid": 108001,
     "latestWkid": 1241,
     "transformForward": false,
     "name": "NAD_1927_To_NAD_1983_NADCON"
    }
   ]
  }
 ],
 "supportsDatumTransformation": true,
 "archivingInfo": {
  "supportsHistoricMoment": false
 },
 "supportsClipping": true,
 "supportsSpatialFilter": true,
 "supportsTimeRelation": true,
 "supportsQueryDataElements": true,
 "mapUnits": {
  "uwkid": 9001
 },
 "maxSelectionCount": 2000,
 "maxRecordCount": 1000,
 "maxImageHeight": 4096,
 "maxImageWidth": 4096,
 "supportedExtensions": "WMSServer"
}
