{
 "currentVersion": 11.4,
 "cimVersion": "3.4.0",
 "serviceDescription": "Hydrographische Charte von Baiern (Blätter 2-4)\naus\nRiedl, Adrian von / Green, Thomas / Schleich, Johann Carl: Strom-Atlas von Baiern\n1806 -1808",
 "mapName": "Layer",
 "description": "",
 "copyrightText": "",
 "supportsDynamicLayers": true,
 "layers": [
  {
   "id": 0,
   "name": "Hydrographische Charte von Baiern, Blatt 2",
   "parentLayerId": -1,
   "defaultVisibility": true,
   "subLayerIds": null,
   "minScale": 0,
   "maxScale": 0,
   "type": "Raster Layer",
   "supportsDynamicLegends": true
  },
  {
   "id": 1,
   "name": "Hydrographische Charte von Baiern, Blatt 3",
   "parentLayerId": -1,
   "defaultVisibility": true,
   "subLayerIds": null,
   "minScale": 0,
   "maxScale": 0,
   "type": "Raster Layer",
   "supportsDynamicLegends": true
  },
  {
   "id": 2,
   "name": "Hydrographische Charte von Baiern, Blatt 4",
   "parentLayerId": -1,
   "defaultVisibility": true,
   "subLayerIds": null,
   "minScale": 0,
   "maxScale": 0,
   "type": "Raster Layer",
   "supportsDynamicLegends": true
  }
 ],
 "tables": [],
 "spatialReference": {
  "wkid": 31464,
  "latestWkid": 31468,
  "xyTolerance": 0.001,
  "zTolerance": 0.001,
  "mTolerance": 0.001,
  "falseX": -1122500,
  "falseY": -10001000,
  "xyUnits": 4.503149312439251E8,
  "falseZ": -100000,
  "zUnits": 10000,
  "falseM": -100000,
  "mUnits": 10000
 },
 "singleFusedMapCache": true,
 "tileInfo": {
  "rows": 256,
  "cols": 256,
  "dpi": 96,
  "format": "PNG",
  "compressionQuality": 0,
  "origin": {
   "x": -1122500,
   "y": 10001000
  },
  "spatialReference": {
   "wkid": 31464,
   "latestWkid": 31468,
   "xyTolerance": 0.001,
   "zTolerance": 0.001,
   "mTolerance": 0.001,
   "falseX": -1122500,
   "falseY": -10001000,
   "xyUnits": 4.503149312439251E8,
   "falseZ": -100000,
   "zUnits": 10000,
   "falseM": -100000,
   "mUnits": 10000
  },
  "lods": [
   {
    "level": 0,
    "resolution": 846.6683600033867,
    "scale": 3200000
   },
   {
    "level": 1,
    "resolution": 423.33418000169337,
    "scale": 1600000
   },
   {
    "level": 2,
    "resolution": 211.66709000084668,
    "scale": 800000
   },
   {
    "level": 3,
    "resolution": 105.83354500042334,
    "scale": 400000
   },
   {
    "level": 4,
    "resolution": 52.91677250021167,
    "scale": 200000
   },
   {
    "level": 5,
    "resolution": 26.458386250105836,
    "scale": 100000
   },
   {
    "level": 6,
    "resolution": 13.229193125052918,
    "scale": 50000
   },
   {
    "level": 7,
    "resolution": 6.614596562526459,
    "scale": 25000
   }
  ]
 },
 "storageInfo": {
  "storageFormat": "esriMapCacheStorageModeCompact",
  "packetSize": 128
 },
 "initialExtent": {
  "xmin": 4171315.266085364,
  "ymin": 5368564.993636648,
  "xmax": 4849817.734930638,
  "ymax": 5599118.53068947,
  "spatialReference": {
   "wkid": 31464,
   "latestWkid": 31468,
   "xyTolerance": 0.001,
   "zTolerance": 0.001,
   "mTolerance": 0.001,
   "falseX": -1122500,
   "falseY": -10001000,
   "xyUnits": 4.503149312439251E8,
   "falseZ": -100000,
   "zUnits": 10000,
   "falseM": -100000,
   "mUnits": 10000
  }
 },
 "fullExtent": {
  "xmin": 4388466.116499535,
  "ymin": 5235919.37384574,
  "xmax": 4632670.672982157,
  "ymax": 5557852.56089377,
  "spatialReference": {
   "wkid": 31464,
   "latestWkid": 31468,
   "xyTolerance": 0.001,
   "zTolerance": 0.001,
   "mTolerance": 0.001,
   "falseX": -1122500,
   "falseY": -10001000,
   "xyUnits": 4.503149312439251E8,
   "falseZ": -100000,
   "zUnits": 10000,
   "falseM": -100000,
   "mUnits": 10000
  }
 },
 "datesInUnknownTimezone": false,
 "minScale": 2311162.217155,
 "maxScale": 4513.988705,
 "units": "esriMeters",
 "supportedImageFormatTypes": "PNG32,PNG24,PNG,JPG,DIB,TIFF,EMF,PS,PDF,GIF,SVG,SVGZ,BMP",
 "documentInfo": {
  "Title": "",
  "Author": "",
  "Comments": "Hydrographische Charte von Baiern (Blätter 2-4)\naus\nRiedl, Adrian von / Green, Thomas / Schleich, Johann Carl: Strom-Atlas von Baiern\n1806 -1808",
  "Subject": "Hydrographische Charte von Baiern (Blätter 2-4)\naus\nRiedl, Adrian von / Green, Thomas / Schleich, Johann Carl: Strom-Atlas von Baiern\n1806 -1808",
  "Category": "",
  "Version": "10.1",
  "AntialiasingMode": "None",
  "TextAntialiasingMode": "Force",
  "Keywords": "Historische Karte Hydrographische Karte Baiern Bayern Riedl Stromatlas 1806 1808"
 },
 "supportsQueryDomains": true,
 "capabilities": "Map,Query,Data",
 "supportedQueryFormats": "JSON, geoJSON, PBF",
 "exportTilesAllowed": false,
 "referenceScale": 0.0,
 "datumTransformations": [
  {
   "geoTransforms": [
    {
     "wkid": 108001,
     "latestWkid": 1241,
     "transformForward": true,
     "name": "NAD_1927_To_NAD_1983_NADCON"
    }
   ]
  },
  {
   "geoTransforms": [
    {
     "wkid": 108001,
     "latestWkid": 1241,
     "transformForward": false,
     "name": "NAD_1927_To_NAD_1983_NADCON"
    }
   ]
  }
 ],
 "supportsDatumTransformation": true,
 "archivingInfo": {
  "supportsHistoricMoment": false
 },
 "supportsClipping": true,
 "supportsSpatialFilter": true,
 "supportsTimeRelation": true,
 "supportsQueryDataElements": true,
 "mapUnits": {
  "uwkid": 9001
 },
 "maxSelectionCount": 2000,
 "maxRecordCount": 1000,
 "maxImageHeight": 4096,
 "maxImageWidth": 4096,
 "supportedExtensions": "WMSServer"
}
