{
 "currentVersion": 11.4,
 "cimVersion": "3.4.0",
 "serviceDescription": "Seutter, Matthäus / Rogg, Gottfried: Augspurg Die Haupt-Stadt Und Zierde Des Schwaebischen Craises, Samt Der Umligenden Gegend In Die Breite Auf 3 Und In Die Länge Auf 1 1/2 Stund Gerechnet\n[Augsburg] : [ca. 1730]",
 "mapName": "Layer",
 "description": "",
 "copyrightText": "",
 "supportsDynamicLayers": true,
 "layers": [
  {
   "id": 0,
   "name": "gk4_bsb00077931_00001.tif",
   "parentLayerId": -1,
   "defaultVisibility": true,
   "subLayerIds": null,
   "minScale": 0,
   "maxScale": 0,
   "type": "Raster Layer",
   "supportsDynamicLegends": true
  }
 ],
 "tables": [],
 "spatialReference": {
  "wkid": 31464,
  "latestWkid": 31468,
  "xyTolerance": 0.001,
  "zTolerance": 0.001,
  "mTolerance": 0.001,
  "falseX": -1122500,
  "falseY": -10001000,
  "xyUnits": 4.503149312439251E8,
  "falseZ": -100000,
  "zUnits": 10000,
  "falseM": -100000,
  "mUnits": 10000
 },
 "singleFusedMapCache": true,
 "tileInfo": {
  "rows": 256,
  "cols": 256,
  "dpi": 96,
  "format": "PNG",
  "compressionQuality": 0,
  "origin": {
   "x": -1122500,
   "y": 10001000
  },
  "spatialReference": {
   "wkid": 31464,
   "latestWkid": 31468,
   "xyTolerance": 0.001,
   "zTolerance": 0.001,
   "mTolerance": 0.001,
   "falseX": -1122500,
   "falseY": -10001000,
   "xyUnits": 4.503149312439251E8,
   "falseZ": -100000,
   "zUnits": 10000,
   "falseM": -100000,
   "mUnits": 10000
  },
  "lods": [
   {
    "level": 0,
    "resolution": 846.6683600033867,
    "scale": 3200000
   },
   {
    "level": 1,
    "resolution": 423.33418000169337,
    "scale": 1600000
   },
   {
    "level": 2,
    "resolution": 211.66709000084668,
    "scale": 800000
   },
   {
    "level": 3,
    "resolution": 105.83354500042334,
    "scale": 400000
   },
   {
    "level": 4,
    "resolution": 52.91677250021167,
    "scale": 200000
   },
   {
    "level": 5,
    "resolution": 26.458386250105836,
    "scale": 100000
   },
   {
    "level": 6,
    "resolution": 13.229193125052918,
    "scale": 50000
   },
   {
    "level": 7,
    "resolution": 6.614596562526459,
    "scale": 25000
   },
   {
    "level": 8,
    "resolution": 3.3072982812632294,
    "scale": 12500
   },
   {
    "level": 9,
    "resolution": 1.6536491406316147,
    "scale": 6250
   },
   {
    "level": 10,
    "resolution": 0.8268245703158074,
    "scale": 3125
   },
   {
    "level": 11,
    "resolution": 0.4134122851579037,
    "scale": 1562.5
   }
  ]
 },
 "storageInfo": {
  "storageFormat": "esriMapCacheStorageModeCompact",
  "packetSize": 128
 },
 "initialExtent": {
  "xmin": 4410189.789866983,
  "ymin": 5356287.831122662,
  "xmax": 4429017.577522558,
  "ymax": 5362685.468917937,
  "spatialReference": {
   "wkid": 31464,
   "latestWkid": 31468,
   "xyTolerance": 0.001,
   "zTolerance": 0.001,
   "mTolerance": 0.001,
   "falseX": -1122500,
   "falseY": -10001000,
   "xyUnits": 4.503149312439251E8,
   "falseZ": -100000,
   "zUnits": 10000,
   "falseM": -100000,
   "mUnits": 10000
  }
 },
 "fullExtent": {
  "xmin": 4401400.392695691,
  "ymin": 5342813.4836222,
  "xmax": 4435600.819116691,
  "ymax": 5370919.7623761995,
  "spatialReference": {
   "wkid": 31464,
   "latestWkid": 31468,
   "xyTolerance": 0.001,
   "zTolerance": 0.001,
   "mTolerance": 0.001,
   "falseX": -1122500,
   "falseY": -10001000,
   "xyUnits": 4.503149312439251E8,
   "falseZ": -100000,
   "zUnits": 10000,
   "falseM": -100000,
   "mUnits": 10000
  }
 },
 "datesInUnknownTimezone": false,
 "minScale": 288895.277144,
 "maxScale": 4513.988705,
 "units": "esriMeters",
 "supportedImageFormatTypes": "PNG32,PNG24,PNG,JPG,DIB,TIFF,EMF,PS,PDF,GIF,SVG,SVGZ,BMP",
 "documentInfo": {
  "Title": "",
  "Author": "",
  "Comments": "Seutter, Matthäus / Rogg, Gottfried: Augspurg Die Haupt-Stadt Und Zierde Des Schwaebischen Craises, Samt Der Umligenden Gegend In Die Breite Auf 3 Und In Die Länge Auf 1 1/2 Stund Gerechnet\n[Augsburg] : [ca. 1730]",
  "Subject": "Seutter, Matthäus / Rogg, Gottfried: Augspurg Die Haupt-Stadt Und Zierde Des Schwaebischen Craises, Samt Der Umligenden Gegend In Die Breite Auf 3 Und In Die Länge Auf 1 1/2 Stund Gerechnet\n[Augsburg] : [ca. 1730]",
  "Category": "",
  "Version": "10.1",
  "AntialiasingMode": "None",
  "TextAntialiasingMode": "Force",
  "Keywords": "Historische Karte Augsburg Seutter Rogg 1730"
 },
 "supportsQueryDomains": true,
 "capabilities": "Map,Query,Data",
 "supportedQueryFormats": "JSON, geoJSON, PBF",
 "exportTilesAllowed": false,
 "referenceScale": 0.0,
 "datumTransformations": [
  {
   "geoTransforms": [
    {
     "wkid": 108001,
     "latestWkid": 1241,
     "transformForward": true,
     "name": "NAD_1927_To_NAD_1983_NADCON"
    }
   ]
  },
  {
   "geoTransforms": [
    {
     "wkid": 108001,
     "latestWkid": 1241,
     "transformForward": false,
     "name": "NAD_1927_To_NAD_1983_NADCON"
    }
   ]
  }
 ],
 "supportsDatumTransformation": true,
 "archivingInfo": {
  "supportsHistoricMoment": false
 },
 "supportsClipping": true,
 "supportsSpatialFilter": true,
 "supportsTimeRelation": true,
 "supportsQueryDataElements": true,
 "mapUnits": {
  "uwkid": 9001
 },
 "maxSelectionCount": 2000,
 "maxRecordCount": 1000,
 "maxImageHeight": 4096,
 "maxImageWidth": 4096,
 "supportedExtensions": "WMSServer"
}
