{
 "currentVersion": 11.4,
 "cimVersion": "3.4.0",
 "serviceDescription": "Senfft, Christoph: Laugingen [gewidmet] Wolfgango Wilhelmo Comiti Palatino Rheni\n[Lauingen] : 1617",
 "mapName": "Layer",
 "description": "",
 "copyrightText": "",
 "supportsDynamicLayers": true,
 "layers": [
  {
   "id": 0,
   "name": "Senfft, Christoph: Laugingen",
   "parentLayerId": -1,
   "defaultVisibility": true,
   "subLayerIds": null,
   "minScale": 0,
   "maxScale": 0,
   "type": "Raster Layer",
   "supportsDynamicLegends": true
  }
 ],
 "tables": [],
 "spatialReference": {
  "wkid": 31464,
  "latestWkid": 31468,
  "xyTolerance": 0.001,
  "zTolerance": 0.001,
  "mTolerance": 0.001,
  "falseX": -1122500,
  "falseY": -10001000,
  "xyUnits": 4.503149312439251E8,
  "falseZ": -100000,
  "zUnits": 10000,
  "falseM": -100000,
  "mUnits": 10000
 },
 "singleFusedMapCache": true,
 "tileInfo": {
  "rows": 256,
  "cols": 256,
  "dpi": 96,
  "format": "PNG",
  "compressionQuality": 0,
  "origin": {
   "x": -1122500,
   "y": 10001000
  },
  "spatialReference": {
   "wkid": 31464,
   "latestWkid": 31468,
   "xyTolerance": 0.001,
   "zTolerance": 0.001,
   "mTolerance": 0.001,
   "falseX": -1122500,
   "falseY": -10001000,
   "xyUnits": 4.503149312439251E8,
   "falseZ": -100000,
   "zUnits": 10000,
   "falseM": -100000,
   "mUnits": 10000
  },
  "lods": [
   {
    "level": 0,
    "resolution": 13.229193125052918,
    "scale": 50000
   },
   {
    "level": 1,
    "resolution": 6.614596562526459,
    "scale": 25000
   },
   {
    "level": 2,
    "resolution": 3.3072982812632294,
    "scale": 12500
   },
   {
    "level": 3,
    "resolution": 1.6536491406316147,
    "scale": 6250
   },
   {
    "level": 4,
    "resolution": 0.8268245703158074,
    "scale": 3125
   },
   {
    "level": 5,
    "resolution": 0.4134122851579037,
    "scale": 1562.5
   }
  ]
 },
 "storageInfo": {
  "storageFormat": "esriMapCacheStorageModeCompact",
  "packetSize": 128
 },
 "initialExtent": {
  "xmin": 4383883.1193324905,
  "ymin": 5382444.693609832,
  "xmax": 4384667.610484807,
  "ymax": 5382711.261851301,
  "spatialReference": {
   "wkid": 31464,
   "latestWkid": 31468,
   "xyTolerance": 0.001,
   "zTolerance": 0.001,
   "mTolerance": 0.001,
   "falseX": -1122500,
   "falseY": -10001000,
   "xyUnits": 4.503149312439251E8,
   "falseZ": -100000,
   "zUnits": 10000,
   "falseM": -100000,
   "mUnits": 10000
  }
 },
 "fullExtent": {
  "xmin": 4383919.86822759,
  "ymin": 5382060.228908785,
  "xmax": 4384716.79245759,
  "ymax": 5383027.610023785,
  "spatialReference": {
   "wkid": 31464,
   "latestWkid": 31468,
   "xyTolerance": 0.001,
   "zTolerance": 0.001,
   "mTolerance": 0.001,
   "falseX": -1122500,
   "falseY": -10001000,
   "xyUnits": 4.503149312439251E8,
   "falseZ": -100000,
   "zUnits": 10000,
   "falseM": -100000,
   "mUnits": 10000
  }
 },
 "datesInUnknownTimezone": false,
 "minScale": 9027.977411,
 "maxScale": 4513.988705,
 "units": "esriMeters",
 "supportedImageFormatTypes": "PNG32,PNG24,PNG,JPG,DIB,TIFF,EMF,PS,PDF,GIF,SVG,SVGZ,BMP",
 "documentInfo": {
  "Title": "",
  "Author": "",
  "Comments": "Senfft, Christoph: Laugingen [gewidmet] Wolfgango Wilhelmo Comiti Palatino Rheni\n[Lauingen] : 1617",
  "Subject": "Senfft, Christoph: Laugingen 1617",
  "Category": "",
  "Version": "10.1",
  "AntialiasingMode": "None",
  "TextAntialiasingMode": "Force",
  "Keywords": "Historischer Stadtplan Lauingen 1617 Senfft"
 },
 "supportsQueryDomains": true,
 "capabilities": "Map,Query,Data",
 "supportedQueryFormats": "JSON, geoJSON, PBF",
 "exportTilesAllowed": false,
 "referenceScale": 0.0,
 "datumTransformations": [
  {
   "geoTransforms": [
    {
     "wkid": 108001,
     "latestWkid": 1241,
     "transformForward": true,
     "name": "NAD_1927_To_NAD_1983_NADCON"
    }
   ]
  },
  {
   "geoTransforms": [
    {
     "wkid": 108001,
     "latestWkid": 1241,
     "transformForward": false,
     "name": "NAD_1927_To_NAD_1983_NADCON"
    }
   ]
  }
 ],
 "supportsDatumTransformation": true,
 "archivingInfo": {
  "supportsHistoricMoment": false
 },
 "supportsClipping": true,
 "supportsSpatialFilter": true,
 "supportsTimeRelation": true,
 "supportsQueryDataElements": true,
 "mapUnits": {
  "uwkid": 9001
 },
 "maxSelectionCount": 2000,
 "maxRecordCount": 1000,
 "maxImageHeight": 4096,
 "maxImageWidth": 4096,
 "supportedExtensions": "WMSServer"
}
